BEGIN:VCALENDAR
VERSION:2.0
PRODID:-//Contratero//ES
CALSCALE:GREGORIAN
METHOD:PUBLISH
BEGIN:VEVENT
UID:57/2021 SV PASS@contratero.es
DTSTAMP:20260422T225439Z
DTSTART:20211025T235959
DTEND:20211026T005959
SUMMARY:Cierre: Contratación de los servicios de actualización y s
DESCRIPTION:Contratación de los servicios de actualización y soporte técnico del programa de mediciones y presupuestos PRESTO\\n\\nOrganismo: Presidencia de la Diputación Provincial de Cáceres\\n\\nVer en Contratero: https://contratero.es/contracts/57/2021 SV PASS
URL:https://contratero.es/contracts/57/2021 SV PASS
STATUS:CONFIRMED
BEGIN:VALARM
TRIGGER:-P1D
ACTION:DISPLAY
DESCRIPTION:Recordatorio: Contratación de los servicios 
END:VALARM
END:VEVENT
END:VCALENDAR